BEGIN:VCALENDAR
VERSION:2.0
PRODID:-//Explore Menomonie - ECPv6.15.20//NONSGML v1.0//EN
CALSCALE:GREGORIAN
METHOD:PUBLISH
X-WR-CALNAME:Explore Menomonie
X-ORIGINAL-URL:https://exploremenomonie.com
X-WR-CALDESC:Events for Explore Menomonie
REFRESH-INTERVAL;VALUE=DURATION:PT1H
X-Robots-Tag:noindex
X-PUBLISHED-TTL:PT1H
BEGIN:VTIMEZONE
TZID:UTC
BEGIN:STANDARD
TZOFFSETFROM:+0000
TZOFFSETTO:+0000
TZNAME:UTC
DTSTART:20250101T000000
END:STANDARD
END:VTIMEZONE
BEGIN:VEVENT
DTSTART;TZID=UTC:20260507T100000
DTEND;TZID=UTC:20260507T180000
DTSTAMP:20260422T194344
CREATED:20260422T135343Z
LAST-MODIFIED:20260422T135343Z
UID:89195-1778148000-1778176800@exploremenomonie.com
SUMMARY:Free Electronics Recycling
DESCRIPTION:Dunn County is partnering with Dynamic Lifecycle Innovations to offer FREE electronics recycling to the community on Thursday\, May 7th from 10AM-6PM.\n\nThis drive through\, free e-recycling event will be held at the Dunn County Fairgrounds inside of the Small Animal Building.\n\nVisit the Facebook event for a complete list of acceptable electronics.
URL:https://exploremenomonie.com/event/free-electronics-recycling/
LOCATION:620 17th St SE Menomonie\, WI 54751
END:VEVENT
END:VCALENDAR