BEGIN:VCALENDAR
VERSION:2.0
PRODID:-//Explore Menomonie - ECPv6.15.20//NONSGML v1.0//EN
CALSCALE:GREGORIAN
METHOD:PUBLISH
X-WR-CALNAME:Explore Menomonie
X-ORIGINAL-URL:https://exploremenomonie.com
X-WR-CALDESC:Events for Explore Menomonie
REFRESH-INTERVAL;VALUE=DURATION:PT1H
X-Robots-Tag:noindex
X-PUBLISHED-TTL:PT1H
BEGIN:VTIMEZONE
TZID:UTC
BEGIN:STANDARD
TZOFFSETFROM:+0000
TZOFFSETTO:+0000
TZNAME:UTC
DTSTART:20250101T000000
END:STANDARD
END:VTIMEZONE
BEGIN:VEVENT
DTSTART;TZID=UTC:20260322T140000
DTEND;TZID=UTC:20260322T153000
DTSTAMP:20260421T130220
CREATED:20260218T215338Z
LAST-MODIFIED:20260218T215338Z
UID:82019-1774188000-1774193400@exploremenomonie.com
SUMMARY:The Blue Hills Chorale
DESCRIPTION:The Blue Hills Chorale\, a talented ensemble of 46 dedicated musicians from the picturesque Blue Hills Area in upper Wisconsin\, is set to present a captivating performance of sacred repertoire in celebration of the Easter season. Their beautifully curated program intertwines sacred music with poignant scripture readings\, illuminating the profound moments that define this significant time of year.
URL:https://exploremenomonie.com/event/the-blue-hills-chorale/
LOCATION:Mabel Tainter\, 205 Main St. E\, Menomonie\, WI\, 54751\, United States
CATEGORIES:Arts & Culture
ATTACH;FMTTYPE=image/png:https://exploremenomonie.com/wp-content/uploads/2026/02/Screenshot_20260120-111010-1.png
ORGANIZER;CN="The Mabel Tainter":MAILTO:boxoffice@mabeltainter.org
GEO:205 Main Street East, Menomonie, WI 54751;44.876594
X-APPLE-STRUCTURED-LOCATION;VALUE=URI;X-ADDRESS=Mabel Tainter 205 Main St. E Menomonie WI 54751 United States;X-APPLE-RADIUS=500;X-TITLE=205 Main St. E:geo:44.876594,205 Main Street East, Menomonie, WI 54751
END:VEVENT
END:VCALENDAR