BEGIN:VCALENDAR
VERSION:2.0
PRODID:-//Explore Menomonie - ECPv6.15.20//NONSGML v1.0//EN
CALSCALE:GREGORIAN
METHOD:PUBLISH
X-WR-CALNAME:Explore Menomonie
X-ORIGINAL-URL:https://exploremenomonie.com
X-WR-CALDESC:Events for Explore Menomonie
REFRESH-INTERVAL;VALUE=DURATION:PT1H
X-Robots-Tag:noindex
X-PUBLISHED-TTL:PT1H
BEGIN:VTIMEZONE
TZID:UTC
BEGIN:STANDARD
TZOFFSETFROM:+0000
TZOFFSETTO:+0000
TZNAME:UTC
DTSTART:20240101T000000
END:STANDARD
END:VTIMEZONE
BEGIN:VEVENT
DTSTART;TZID=UTC:20251030T190000
DTEND;TZID=UTC:20251030T210000
DTSTAMP:20260422T161143
CREATED:20251013T131301Z
LAST-MODIFIED:20251013T131301Z
UID:67045-1761850800-1761858000@exploremenomonie.com
SUMMARY:Unscripted Paranormal
DESCRIPTION:Join International Paranormal investigators for a haunting night at the theater. The Unscripted Paranormal TV team will premier their Mabel Tainter Theater investigation episode to present their ghostly evidence for the first time. This unique evening will also include a question and answer session\, and an equipment demonstration. Author and TV presenter Adrian Lee will also be signing his latest books. The team has also agreed to offer an exclusive opportunity to investigate the theater with them after the show (capped at 10 people).
URL:https://exploremenomonie.com/event/unscripted-paranormal/
LOCATION:Mabel Tainter\, 205 Main St. E\, Menomonie\, WI\, 54751\, United States
ATTACH;FMTTYPE=image/png:https://exploremenomonie.com/wp-content/uploads/2025/10/Unscripted20Paranormal.png
GEO:205 Main Street East, Menomonie, WI 54751;44.876594
X-APPLE-STRUCTURED-LOCATION;VALUE=URI;X-ADDRESS=Mabel Tainter 205 Main St. E Menomonie WI 54751 United States;X-APPLE-RADIUS=500;X-TITLE=205 Main St. E:geo:44.876594,205 Main Street East, Menomonie, WI 54751
END:VEVENT
END:VCALENDAR