BEGIN:VCALENDAR
VERSION:2.0
PRODID:-//Explore Menomonie - ECPv6.15.20//NONSGML v1.0//EN
CALSCALE:GREGORIAN
METHOD:PUBLISH
X-WR-CALNAME:Explore Menomonie
X-ORIGINAL-URL:https://exploremenomonie.com
X-WR-CALDESC:Events for Explore Menomonie
REFRESH-INTERVAL;VALUE=DURATION:PT1H
X-Robots-Tag:noindex
X-PUBLISHED-TTL:PT1H
BEGIN:VTIMEZONE
TZID:UTC
BEGIN:STANDARD
TZOFFSETFROM:+0000
TZOFFSETTO:+0000
TZNAME:UTC
DTSTART:20250101T000000
END:STANDARD
END:VTIMEZONE
BEGIN:VEVENT
DTSTART;TZID=UTC:20260422T160000
DTEND;TZID=UTC:20260422T190000
DTSTAMP:20260422T074150
CREATED:20260330T203908Z
LAST-MODIFIED:20260330T203908Z
UID:10003698-1776873600-1776884400@exploremenomonie.com
SUMMARY:Environmental Series – Go Beyond Earth Day\, Think Sustainability for Life
DESCRIPTION:Brianna Capra\, author and illustrator of Just Say NOPE to Plastic\, shares what she has learned through research and experience on how to embrace a more sustainable lifestyle. The discussion will cover how to quit plastic\, properly recycle\, reimagine food systems\, repurpose\, repair\, and create change. Come with questions for a lively discussion. In Person or via Zoom
URL:https://exploremenomonie.com/event/environmental-series-go-beyond-earth-day-think-sustainability-for-life/
LOCATION:Dragon Tale Books
CATEGORIES:Arts & Culture
ATTACH;FMTTYPE=image/png:https://exploremenomonie.com/wp-content/uploads/2026/03/Environmental-SeriesBrianna.png
ORGANIZER;CN="Dragon Tale Books":MAILTO:715-233-6252
END:VEVENT
BEGIN:VEVENT
DTSTART;TZID=UTC:20260422T173000
DTEND;TZID=UTC:20260422T183000
DTSTAMP:20260422T074150
CREATED:20260212T220030Z
LAST-MODIFIED:20260212T220030Z
UID:10003591-1776879000-1776882600@exploremenomonie.com
SUMMARY:Menomonie in Motion
DESCRIPTION:MENOMONIE IN MOTION \nNo matter where you are in your fitness\, there is a spot for you in this class. Grab a friend and join us. You can do this! Let’s take the first step together! \n\nMarch 23-May 13 on Mondays and Wednesdays from 5:30-6:30\nClass is FREE\nFor runners & walkers ages 14+\nMeet in library meeting room\nComplete a 5K at the end of class\n\n\nREGISTRATION is required. \nLet’s get in motion together!
URL:https://exploremenomonie.com/event/menomonie-in-motion-2/2026-04-22/
LOCATION:Menomonie Public Library\, 600 Wolske Bay Road\, MENOMONIE\, WI\, 54751-1579\, United States
ATTACH;FMTTYPE=image/png:https://exploremenomonie.com/wp-content/uploads/2026/02/2026-poster.png
ORGANIZER;CN="Menomonie Public Library":MAILTO:info@menomonielibrary.org
GEO:600 Wolske Bay Road Menomonie, WI 54751;44.88721
X-APPLE-STRUCTURED-LOCATION;VALUE=URI;X-ADDRESS=Menomonie Public Library 600 Wolske Bay Road MENOMONIE WI 54751-1579 United States;X-APPLE-RADIUS=500;X-TITLE=600 Wolske Bay Road:geo:44.88721,600 Wolske Bay Road Menomonie, WI 54751
END:VEVENT
BEGIN:VEVENT
DTSTART;TZID=UTC:20260422T190000
DTEND;TZID=UTC:20260422T210000
DTSTAMP:20260422T074150
CREATED:20260409T191558Z
LAST-MODIFIED:20260409T191558Z
UID:10003791-1776884400-1776891600@exploremenomonie.com
SUMMARY:Big Fish
DESCRIPTION:It’s Movie Night at The Mabel! When Edward Bloom (Albert Finney) becomes ill\, his son\, William (Billy Crudup)\, travels to be with him. William has a strained relationship with Edward because his father has always told exaggerated stories about his life\, and William thinks he’s never really told the truth. Even on his deathbed\, Edward recounts fantastical anecdotes. When William\, who is a journalist\, starts to investigate his father’s tales\, he begins to understand the man and his penchant for storytelling.
URL:https://exploremenomonie.com/event/big-fish/
LOCATION:Mabel Tainter\, 205 Main St. E\, Menomonie\, WI\, 54751\, United States
CATEGORIES:Arts & Culture
ATTACH;FMTTYPE=image/jpeg:https://exploremenomonie.com/wp-content/uploads/2026/04/big_fish_2003_2.jpg
ORGANIZER;CN="The Mabel Tainter":MAILTO:boxoffice@mabeltainter.org
GEO:205 Main Street East, Menomonie, WI 54751;44.876594
X-APPLE-STRUCTURED-LOCATION;VALUE=URI;X-ADDRESS=Mabel Tainter 205 Main St. E Menomonie WI 54751 United States;X-APPLE-RADIUS=500;X-TITLE=205 Main St. E:geo:44.876594,205 Main Street East, Menomonie, WI 54751
END:VEVENT
END:VCALENDAR