BEGIN:VCALENDAR
VERSION:2.0
PRODID:-//Explore Menomonie - ECPv6.15.20//NONSGML v1.0//EN
CALSCALE:GREGORIAN
METHOD:PUBLISH
X-WR-CALNAME:Explore Menomonie
X-ORIGINAL-URL:https://exploremenomonie.com
X-WR-CALDESC:Events for Explore Menomonie
REFRESH-INTERVAL;VALUE=DURATION:PT1H
X-Robots-Tag:noindex
X-PUBLISHED-TTL:PT1H
BEGIN:VTIMEZONE
TZID:UTC
BEGIN:STANDARD
TZOFFSETFROM:+0000
TZOFFSETTO:+0000
TZNAME:UTC
DTSTART:20250101T000000
END:STANDARD
END:VTIMEZONE
BEGIN:VEVENT
DTSTART;TZID=UTC:20260424T073000
DTEND;TZID=UTC:20260425T163000
DTSTAMP:20260424T104035
CREATED:20251217T142249Z
LAST-MODIFIED:20251217T142249Z
UID:10003459-1777015800-1777134600@exploremenomonie.com
SUMMARY:2026 UW-Stout Early Childhood Education Conference
DESCRIPTION:This year’s theme\, Whole-Child\, Whole Educator: Building Emotional Wellness in Every Classroom\, highlights the integral relationship between the emotional well-being of educators and the holistic development of children. This year’s conference broadens its focus to include Kindergarten through 3rd-grade educators\, recognizing the shared importance of emotional wellness across the early and elementary learning continuum. We also invite early childhood special education teachers to join us as we work together to build inclusive\, emotionally supportive learning environments. Through research-based practices\, collaborative dialogue\, and innovative approaches\, this theme invites educators to examine how nurturing both the whole child and the whole educator contributes to stronger\, more connected\, and emotionally supportive learning environments.
URL:https://exploremenomonie.com/event/2026-uw-stout-early-childhood-education-conference/
LOCATION:University of Wisconsin-Stout
CATEGORIES:Family Fun
ATTACH;FMTTYPE=image/png:https://exploremenomonie.com/wp-content/uploads/2025/12/2024-ECE-new-logo.png
ORGANIZER;CN="UW Stout Continuing Education and Conferences":MAILTO:715-232-5169
GEO:712 Broadway St S, Menomonie, WI 54751;44.888611
END:VEVENT
BEGIN:VEVENT
DTSTART;TZID=UTC:20260424T090000
DTEND;TZID=UTC:20260425T160000
DTSTAMP:20260424T104035
CREATED:20260320T180139Z
LAST-MODIFIED:20260320T180139Z
UID:10003678-1777021200-1777132800@exploremenomonie.com
SUMMARY:Community Rummage & Bake Sale for Dunn County Humane Society
DESCRIPTION:The DCHS Bi-annual Rummage Sale is back at the Fanetti Community Center & Dunn County Ice Arena in Menomonie on April 24th & 25th. \nShop for a great cause and help us raise money for unhomed companion pets in Dunn County! \nAll proceeds go directly towards our mission\, covering the costs of veterinary care\, adoptions\, facilities\, and community outreach. \n\n\n\n\n\n\n\n\n\n\n\n\n\nInterested in donating your unwanted items to our rummage sale? Item donations can be dropped off at the Fanetti Community Center on Tuesday\, April 21st from 7am-7pm. \nAt this time\, we cannot accept: large exercise equipment\, mattresses or bed frames\, large appliances\, TVs\, children’s outdoor play equipment\, undergarments\, or broken items.
URL:https://exploremenomonie.com/event/community-rummage-bake-sale-for-dunn-county-humane-society/
LOCATION:Fanetti Community Center
CATEGORIES:Family Fun,Shopping
ATTACH;FMTTYPE=image/jpeg:https://exploremenomonie.com/wp-content/uploads/2026/03/Spring-Summer-Rummage-Sale-Instagram-Post.jpg
ORGANIZER;CN="Dunn County Humane Society":MAILTO:(715) 232-9790
GEO:620 17th St SE, Menomonie, WI 54751;44.87825
END:VEVENT
BEGIN:VEVENT
DTSTART;TZID=UTC:20260424T161500
DTEND;TZID=UTC:20260424T174500
DTSTAMP:20260424T104035
CREATED:20260218T194228Z
LAST-MODIFIED:20260318T144540Z
UID:10003668-1777047300-1777052700@exploremenomonie.com
SUMMARY:Fiber Fridays
DESCRIPTION:The Library will be hosting Fiber Fridays\, a creative class designed for adults\, from March 6-May 29 (4:15-5:45pm). \nCome and learn how to knit\, crochet\, or both with one-on-one support from the group leader and skilled fiber artists. Bring your own project to work on or get ideas at class. \nMaterials for those new to the craft are provided at no cost (hooks/needles\, yarns\, patterns\, etc.). \nClasses on March 6\, 13 and 20 will be held in the storytime room. After that it will be held in the meeting room.
URL:https://exploremenomonie.com/event/fiber-fridays/2026-04-24/
LOCATION:Menomonie Public Library\, 600 Wolske Bay Road\, MENOMONIE\, WI\, 54751-1579\, United States
CATEGORIES:Arts & Culture
ATTACH;FMTTYPE=image/png:https://exploremenomonie.com/wp-content/uploads/2026/02/fiber-fridays.png
ORGANIZER;CN="Menomonie Public Library":MAILTO:info@menomonielibrary.org
GEO:600 Wolske Bay Road Menomonie, WI 54751;44.88721
X-APPLE-STRUCTURED-LOCATION;VALUE=URI;X-ADDRESS=Menomonie Public Library 600 Wolske Bay Road MENOMONIE WI 54751-1579 United States;X-APPLE-RADIUS=500;X-TITLE=600 Wolske Bay Road:geo:44.88721,600 Wolske Bay Road Menomonie, WI 54751
END:VEVENT
BEGIN:VEVENT
DTSTART;TZID=UTC:20260424T190000
DTEND;TZID=UTC:20260424T203000
DTSTAMP:20260424T104035
CREATED:20260409T191724Z
LAST-MODIFIED:20260409T191724Z
UID:10003795-1777057200-1777062600@exploremenomonie.com
SUMMARY:Hunter Ribeiro
DESCRIPTION:Hunter Ribeiro is a Chippewa Valley-based artist who takes the stage armed with an acoustic guitar\, a harmonica\, and an unmistakably honest voice. Influenced by the storytelling of Bob Dylan and the playing of John Mayer\, his sets blend powerful originals with the occasional cover that feels entirely his own.
URL:https://exploremenomonie.com/event/hunter-ribeiro/
LOCATION:The Spirit Room at the Mabel Tainter\, 205 Main Street East\, Menomonie\, WI\, 54751\, United States
CATEGORIES:Arts & Culture,Dine & Drink
ATTACH;FMTTYPE=image/png:https://exploremenomonie.com/wp-content/uploads/2026/04/2-1.png
ORGANIZER;CN="The Mabel Tainter":MAILTO:boxoffice@mabeltainter.org
END:VEVENT
BEGIN:VEVENT
DTSTART;TZID=UTC:20260424T190000
DTEND;TZID=UTC:20260424T223000
DTSTAMP:20260424T104035
CREATED:20260413T132755Z
LAST-MODIFIED:20260413T132755Z
UID:10003802-1777057200-1777069800@exploremenomonie.com
SUMMARY:Randy Buss Icebreaker - Red Cedar Speedway Season Opener
DESCRIPTION:Five divisions of dirt race cars take to the Red Cedar Speedway for the Randy Buss Icebreaker Season Opener. Gates open at 5pm\, racing begins at 7pm.
URL:https://exploremenomonie.com/event/randy-buss-icebreaker-red-cedar-speedway-season-opener/
LOCATION:Red Cedar Speedway\, 620 17th St SE\, Menomonie\, 54751\, United States
CATEGORIES:Attractions
ATTACH;FMTTYPE=image/png:https://exploremenomonie.com/wp-content/uploads/2026/04/Randy-Buss-Icebreaaker-2026.png
ORGANIZER;CN="Red Cedar Speedway":MAILTO:(715) 235-6318
GEO:620 17th St SE, Menomonie, WI 54751;44.87825
X-APPLE-STRUCTURED-LOCATION;VALUE=URI;X-ADDRESS=Red Cedar Speedway 620 17th St SE Menomonie 54751 United States;X-APPLE-RADIUS=500;X-TITLE=620 17th St SE:geo:44.87825,620 17th St SE, Menomonie, WI 54751
END:VEVENT
END:VCALENDAR