BEGIN:VCALENDAR
VERSION:2.0
PRODID:-//Explore Menomonie - ECPv6.15.20//NONSGML v1.0//EN
CALSCALE:GREGORIAN
METHOD:PUBLISH
X-ORIGINAL-URL:https://exploremenomonie.com
X-WR-CALDESC:Events for Explore Menomonie
REFRESH-INTERVAL;VALUE=DURATION:PT1H
X-Robots-Tag:noindex
X-PUBLISHED-TTL:PT1H
BEGIN:VTIMEZONE
TZID:UTC
BEGIN:STANDARD
TZOFFSETFROM:+0000
TZOFFSETTO:+0000
TZNAME:UTC
DTSTART:20240101T000000
END:STANDARD
END:VTIMEZONE
BEGIN:VEVENT
DTSTART;TZID=UTC:20251028T100000
DTEND;TZID=UTC:20251028T160000
DTSTAMP:20260422T092227
CREATED:20250917T165437Z
LAST-MODIFIED:20250917T211824Z
UID:10002749-1761645600-1761667200@exploremenomonie.com
SUMMARY:Rural Arts & Culture Forum
DESCRIPTION:People involved in the arts and creativity\, business\, community development\, education\, government\, and politics\, are invited to come together at the 2025 Rural Arts and Creativity Forum\, on Tuesday\, October 28\, 2025\, in Menomonie\, WI. Registration is free – click here to register. \nThis year’s Forum will take place at the Mabel Tainter Theater in downtown Menomonie\, a restored vintage American theater presenting a varied schedule of musical\, theatrical and visual programs and events. The Forum is hosted by Create Wisconsin\, Wisconsin Arts Board\, and the Mabel Tainter Theater.
URL:https://exploremenomonie.com/event/__ruralartsculture/
LOCATION:Mabel Tainter\, 205 Main St. E\, Menomonie\, WI\, 54751\, United States
CATEGORIES:Arts & Culture
ATTACH;FMTTYPE=image/png:https://exploremenomonie.com/wp-content/uploads/2025/09/RuralArtsForum.png
ORGANIZER;CN="The Mabel Tainter":MAILTO:boxoffice@mabeltainter.org
GEO:205 Main Street East, Menomonie, WI 54751;44.876594
X-APPLE-STRUCTURED-LOCATION;VALUE=URI;X-ADDRESS=Mabel Tainter 205 Main St. E Menomonie WI 54751 United States;X-APPLE-RADIUS=500;X-TITLE=205 Main St. E:geo:44.876594,205 Main Street East, Menomonie, WI 54751
END:VEVENT
END:VCALENDAR