BEGIN:VCALENDAR
VERSION:2.0
PRODID:-//Explore Menomonie - ECPv6.15.20//NONSGML v1.0//EN
CALSCALE:GREGORIAN
METHOD:PUBLISH
X-WR-CALNAME:Explore Menomonie
X-ORIGINAL-URL:https://exploremenomonie.com
X-WR-CALDESC:Events for Explore Menomonie
REFRESH-INTERVAL;VALUE=DURATION:PT1H
X-Robots-Tag:noindex
X-PUBLISHED-TTL:PT1H
BEGIN:VTIMEZONE
TZID:UTC
BEGIN:STANDARD
TZOFFSETFROM:+0000
TZOFFSETTO:+0000
TZNAME:UTC
DTSTART:20240101T000000
END:STANDARD
END:VTIMEZONE
BEGIN:VEVENT
DTSTART;TZID=UTC:20250424T180000
DTEND;TZID=UTC:20250424T190000
DTSTAMP:20260421T162312
CREATED:20250212T215225Z
LAST-MODIFIED:20250918T170615Z
UID:10000526-1745517600-1745521200@exploremenomonie.com
SUMMARY:Writing Genealogy Series – Dunn County Genealogical Society
DESCRIPTION:John Fassbender from the Dunn County Genealogical Society will present about the resources available at the Dunn County Genealogical Library and Museum and how to research your family. This will end our series\, so you can get to work\, because you’ve been inspired to research and write. \nIn person or via Zoom
URL:https://exploremenomonie.com/event/writing-genealogy-series-dunn-county-genealogical-society/
LOCATION:Dragon Tale Books
CATEGORIES:Arts & Culture
ATTACH;FMTTYPE=image/png:https://exploremenomonie.com/wp-content/uploads/2025/02/Copy-of-Writing-Genealogy-SeriesIG.png
ORGANIZER;CN="Dragon Tale Books":MAILTO:715-233-6252
END:VEVENT
BEGIN:VEVENT
DTSTART;TZID=UTC:20250424T093000
DTEND;TZID=UTC:20250424T104500
DTSTAMP:20260421T162312
CREATED:20250918T171223Z
LAST-MODIFIED:20250918T171223Z
UID:10000717-1745487000-1745491500@exploremenomonie.com
SUMMARY:Spring Storytime
DESCRIPTION:Spring storytime is here and there is fun to be had for children of all ages! \nThe spring storytime session goes from April 1-May 1 on Tuesdays\, Wednesdays\, and Thursdays. \n9:30-10 Learning Together-For children of all ages\, attending with a caregiver.\n10:15-10:45 On My Own-For children 3-6 years old\, \nCome & enjoy the fun!
URL:https://exploremenomonie.com/event/spring-storytime/2025-04-24/
LOCATION:Menomonie Public Library\, 600 Wolske Bay Road\, MENOMONIE\, WI\, 54751-1579\, United States
CATEGORIES:Family Fun
ATTACH;FMTTYPE=image/png:https://exploremenomonie.com/wp-content/uploads/2025/03/spring-2025-storytime.png
ORGANIZER;CN="Menomonie Public Library":MAILTO:info@menomonielibrary.org
GEO:600 Wolske Bay Road Menomonie, WI 54751;44.88721
X-APPLE-STRUCTURED-LOCATION;VALUE=URI;X-ADDRESS=Menomonie Public Library 600 Wolske Bay Road MENOMONIE WI 54751-1579 United States;X-APPLE-RADIUS=500;X-TITLE=600 Wolske Bay Road:geo:44.88721,600 Wolske Bay Road Menomonie, WI 54751
END:VEVENT
BEGIN:VEVENT
DTSTART;TZID=UTC:20250423T173000
DTEND;TZID=UTC:20250423T183000
DTSTAMP:20260421T162312
CREATED:20250918T171248Z
LAST-MODIFIED:20250918T171248Z
UID:10000608-1745429400-1745433000@exploremenomonie.com
SUMMARY:Menomonie in Motion
DESCRIPTION:Ready for spring to get out and get moving? Join us at the library Mondays and Wednesdays March 24-May 28. \n\nClass is FREE\nFor runners & walkers ages 14+\nMeet in library meeting room\nComplete a 5K at the end of class.\n\n\nClass is FREE to attend! REGISTRATION is required. \nWHO: YOU! No matter where you are in your fitness\, there is a spot for you in this class. Grab a friend and join us. You can do this! Let’s take the first step together! \nWHERE: Menomonie Public Library meeting room \nWHEN: March 24-May 28 on Mondays and Wednesdays from 5:30-6:30 \nLet’s get in motion together!
URL:https://exploremenomonie.com/event/menomonie-in-motion/2025-04-23/
LOCATION:Menomonie Public Library\, 600 Wolske Bay Road\, MENOMONIE\, WI\, 54751-1579\, United States
CATEGORIES:Family Fun,Outdoors & Sports
ATTACH;FMTTYPE=image/png:https://exploremenomonie.com/wp-content/uploads/2025/02/2025-poster-1.png
ORGANIZER;CN="Menomonie Public Library":MAILTO:info@menomonielibrary.org
GEO:600 Wolske Bay Road Menomonie, WI 54751;44.88721
X-APPLE-STRUCTURED-LOCATION;VALUE=URI;X-ADDRESS=Menomonie Public Library 600 Wolske Bay Road MENOMONIE WI 54751-1579 United States;X-APPLE-RADIUS=500;X-TITLE=600 Wolske Bay Road:geo:44.88721,600 Wolske Bay Road Menomonie, WI 54751
END:VEVENT
BEGIN:VEVENT
DTSTART;TZID=UTC:20250423T093000
DTEND;TZID=UTC:20250423T104500
DTSTAMP:20260421T162312
CREATED:20250918T171223Z
LAST-MODIFIED:20250918T171223Z
UID:10000716-1745400600-1745405100@exploremenomonie.com
SUMMARY:Spring Storytime
DESCRIPTION:Spring storytime is here and there is fun to be had for children of all ages! \nThe spring storytime session goes from April 1-May 1 on Tuesdays\, Wednesdays\, and Thursdays. \n9:30-10 Learning Together-For children of all ages\, attending with a caregiver.\n10:15-10:45 On My Own-For children 3-6 years old\, \nCome & enjoy the fun!
URL:https://exploremenomonie.com/event/spring-storytime/2025-04-23/
LOCATION:Menomonie Public Library\, 600 Wolske Bay Road\, MENOMONIE\, WI\, 54751-1579\, United States
CATEGORIES:Family Fun
ATTACH;FMTTYPE=image/png:https://exploremenomonie.com/wp-content/uploads/2025/03/spring-2025-storytime.png
ORGANIZER;CN="Menomonie Public Library":MAILTO:info@menomonielibrary.org
GEO:600 Wolske Bay Road Menomonie, WI 54751;44.88721
X-APPLE-STRUCTURED-LOCATION;VALUE=URI;X-ADDRESS=Menomonie Public Library 600 Wolske Bay Road MENOMONIE WI 54751-1579 United States;X-APPLE-RADIUS=500;X-TITLE=600 Wolske Bay Road:geo:44.88721,600 Wolske Bay Road Menomonie, WI 54751
END:VEVENT
BEGIN:VEVENT
DTSTART;TZID=UTC:20250422T093000
DTEND;TZID=UTC:20250422T104500
DTSTAMP:20260421T162312
CREATED:20250918T171223Z
LAST-MODIFIED:20250918T171223Z
UID:10000715-1745314200-1745318700@exploremenomonie.com
SUMMARY:Spring Storytime
DESCRIPTION:Spring storytime is here and there is fun to be had for children of all ages! \nThe spring storytime session goes from April 1-May 1 on Tuesdays\, Wednesdays\, and Thursdays. \n9:30-10 Learning Together-For children of all ages\, attending with a caregiver.\n10:15-10:45 On My Own-For children 3-6 years old\, \nCome & enjoy the fun!
URL:https://exploremenomonie.com/event/spring-storytime/2025-04-22/
LOCATION:Menomonie Public Library\, 600 Wolske Bay Road\, MENOMONIE\, WI\, 54751-1579\, United States
CATEGORIES:Family Fun
ATTACH;FMTTYPE=image/png:https://exploremenomonie.com/wp-content/uploads/2025/03/spring-2025-storytime.png
ORGANIZER;CN="Menomonie Public Library":MAILTO:info@menomonielibrary.org
GEO:600 Wolske Bay Road Menomonie, WI 54751;44.88721
X-APPLE-STRUCTURED-LOCATION;VALUE=URI;X-ADDRESS=Menomonie Public Library 600 Wolske Bay Road MENOMONIE WI 54751-1579 United States;X-APPLE-RADIUS=500;X-TITLE=600 Wolske Bay Road:geo:44.88721,600 Wolske Bay Road Menomonie, WI 54751
END:VEVENT
BEGIN:VEVENT
DTSTART;TZID=UTC:20250421T173000
DTEND;TZID=UTC:20250421T183000
DTSTAMP:20260421T162312
CREATED:20250918T171248Z
LAST-MODIFIED:20250918T171248Z
UID:10000607-1745256600-1745260200@exploremenomonie.com
SUMMARY:Menomonie in Motion
DESCRIPTION:Ready for spring to get out and get moving? Join us at the library Mondays and Wednesdays March 24-May 28. \n\nClass is FREE\nFor runners & walkers ages 14+\nMeet in library meeting room\nComplete a 5K at the end of class.\n\n\nClass is FREE to attend! REGISTRATION is required. \nWHO: YOU! No matter where you are in your fitness\, there is a spot for you in this class. Grab a friend and join us. You can do this! Let’s take the first step together! \nWHERE: Menomonie Public Library meeting room \nWHEN: March 24-May 28 on Mondays and Wednesdays from 5:30-6:30 \nLet’s get in motion together!
URL:https://exploremenomonie.com/event/menomonie-in-motion/2025-04-21/
LOCATION:Menomonie Public Library\, 600 Wolske Bay Road\, MENOMONIE\, WI\, 54751-1579\, United States
CATEGORIES:Family Fun,Outdoors & Sports
ATTACH;FMTTYPE=image/png:https://exploremenomonie.com/wp-content/uploads/2025/02/2025-poster-1.png
ORGANIZER;CN="Menomonie Public Library":MAILTO:info@menomonielibrary.org
GEO:600 Wolske Bay Road Menomonie, WI 54751;44.88721
X-APPLE-STRUCTURED-LOCATION;VALUE=URI;X-ADDRESS=Menomonie Public Library 600 Wolske Bay Road MENOMONIE WI 54751-1579 United States;X-APPLE-RADIUS=500;X-TITLE=600 Wolske Bay Road:geo:44.88721,600 Wolske Bay Road Menomonie, WI 54751
END:VEVENT
END:VCALENDAR