BEGIN:VCALENDAR
VERSION:2.0
PRODID:-//Explore Menomonie - ECPv6.15.20//NONSGML v1.0//EN
CALSCALE:GREGORIAN
METHOD:PUBLISH
X-ORIGINAL-URL:https://exploremenomonie.com
X-WR-CALDESC:Events for Explore Menomonie
REFRESH-INTERVAL;VALUE=DURATION:PT1H
X-Robots-Tag:noindex
X-PUBLISHED-TTL:PT1H
BEGIN:VTIMEZONE
TZID:UTC
BEGIN:STANDARD
TZOFFSETFROM:+0000
TZOFFSETTO:+0000
TZNAME:UTC
DTSTART:20240101T000000
END:STANDARD
END:VTIMEZONE
BEGIN:VEVENT
DTSTART;TZID=UTC:20260207T193000
DTEND;TZID=UTC:20260207T210000
DTSTAMP:20260421T175642
CREATED:20260127T211401Z
LAST-MODIFIED:20260127T211401Z
UID:10003521-1770492600-1770498000@exploremenomonie.com
SUMMARY:Buddy Holly: “OH BOY!”
DESCRIPTION:“Buddy Holly: OH BOY!” is a reminiscing of Buddy Holly’s 1959 WINTER DANCE PARTY Tour. A STELLAR TRIBUTE to the music of American rock and roll icon Buddy Holly\, featuring original cast members (Nicholas Freeman\, Blake Foster and Zach Spicer) from History Theatre’s IVEY-award-winning production of Buddy! The Buddy Holly Story.
URL:https://exploremenomonie.com/event/buddy-holly-oh-boy/
LOCATION:Mabel Tainter\, 205 Main St. E\, Menomonie\, WI\, 54751\, United States
CATEGORIES:Arts & Culture
ATTACH;FMTTYPE=image/jpeg:https://exploremenomonie.com/wp-content/uploads/2026/01/2024-Buddy-FB-1920x1005px.jpg
ORGANIZER;CN="The Mabel Tainter":MAILTO:boxoffice@mabeltainter.org
GEO:205 Main Street East, Menomonie, WI 54751;44.876594
X-APPLE-STRUCTURED-LOCATION;VALUE=URI;X-ADDRESS=Mabel Tainter 205 Main St. E Menomonie WI 54751 United States;X-APPLE-RADIUS=500;X-TITLE=205 Main St. E:geo:44.876594,205 Main Street East, Menomonie, WI 54751
END:VEVENT
BEGIN:VEVENT
DTSTART;TZID=UTC:20260206T190000
DTEND;TZID=UTC:20260206T203000
DTSTAMP:20260421T175642
CREATED:20260127T211358Z
LAST-MODIFIED:20260127T211358Z
UID:10003522-1770404400-1770409800@exploremenomonie.com
SUMMARY:Greg Herriges
DESCRIPTION:FREE IN THE SPIRIT ROOM: Greg Herriges stirs a mix of original and traditional “progressive world music” on guitar\, voice\, and Greek bouzouki\, with a unique approach honed by his studies of Asian\, Mediterranean\, and other worldly styles. An award-winning composer and performer\, his music and writing have found international recognition. His solo & duo sets include lively instrumentals\, inventive versions of rock and jazz standards\, and mesmerizing world music.
URL:https://exploremenomonie.com/event/greg-herriges-3/
LOCATION:The Spirit Room at the Mabel Tainter\, 205 Main Street East\, Menomonie\, WI\, 54751\, United States
CATEGORIES:Arts & Culture
ATTACH;FMTTYPE=image/png:https://exploremenomonie.com/wp-content/uploads/2026/01/greg-herriges-Presentation-169.png
ORGANIZER;CN="The Mabel Tainter":MAILTO:boxoffice@mabeltainter.org
END:VEVENT
BEGIN:VEVENT
DTSTART;TZID=UTC:20260110T193000
DTEND;TZID=UTC:20260110T203000
DTSTAMP:20260421T175642
CREATED:20251107T184534Z
LAST-MODIFIED:20251107T184534Z
UID:10003373-1768073400-1768077000@exploremenomonie.com
SUMMARY:Davina and the Vagabonds
DESCRIPTION:“Davina creates her own Americana mishmash—a little Amy Winehouse-worthy neo-soul here\, a little Great American Songbook-influenced songcraft there.” – Rolling Stone Magazine.
URL:https://exploremenomonie.com/event/davina-and-the-vagabonds/
LOCATION:Mabel Tainter\, 205 Main St. E\, Menomonie\, WI\, 54751\, United States
CATEGORIES:Arts & Culture
ATTACH;FMTTYPE=image/jpeg:https://exploremenomonie.com/wp-content/uploads/2025/11/Davina.jpg
ORGANIZER;CN="The Mabel Tainter":MAILTO:boxoffice@mabeltainter.org
GEO:205 Main Street East, Menomonie, WI 54751;44.876594
X-APPLE-STRUCTURED-LOCATION;VALUE=URI;X-ADDRESS=Mabel Tainter 205 Main St. E Menomonie WI 54751 United States;X-APPLE-RADIUS=500;X-TITLE=205 Main St. E:geo:44.876594,205 Main Street East, Menomonie, WI 54751
END:VEVENT
BEGIN:VEVENT
DTSTART;TZID=UTC:20251129T193000
DTEND;TZID=UTC:20251129T213000
DTSTAMP:20260421T175642
CREATED:20250917T170709Z
LAST-MODIFIED:20250917T213800Z
UID:10002753-1764444600-1764451800@exploremenomonie.com
SUMMARY:The Holiday Songbook
DESCRIPTION:THE HOLIDAY SONGBOOK an interactive musical journey that brings your favorite holiday tunes to life! \nThe latest installment in the acclaimed Songbook Series\, delivers an unforgettable evening packed with show-stopping performances\, fascinating backstories\, and plenty of holiday cheer. \nThe show explores the evolution of Winter Holiday Music from its early origins when carolers seeking a cup of wassail went from house to house right up to the holiday hits of today. It’s a perfect seasonal addition to any venue’s calendar\, offering exciting reinterpretations of classic holiday hits.
URL:https://exploremenomonie.com/event/__holidaysongbook/
LOCATION:Mabel Tainter\, 205 Main St. E\, Menomonie\, WI\, 54751\, United States
CATEGORIES:Arts & Culture
ATTACH;FMTTYPE=image/png:https://exploremenomonie.com/wp-content/uploads/2025/09/Holiday-Songbook.png
ORGANIZER;CN="The Mabel Tainter":MAILTO:boxoffice@mabeltainter.org
GEO:205 Main Street East, Menomonie, WI 54751;44.876594
X-APPLE-STRUCTURED-LOCATION;VALUE=URI;X-ADDRESS=Mabel Tainter 205 Main St. E Menomonie WI 54751 United States;X-APPLE-RADIUS=500;X-TITLE=205 Main St. E:geo:44.876594,205 Main Street East, Menomonie, WI 54751
END:VEVENT
BEGIN:VEVENT
DTSTART;TZID=UTC:20251028T100000
DTEND;TZID=UTC:20251028T160000
DTSTAMP:20260421T175642
CREATED:20250917T165437Z
LAST-MODIFIED:20250917T211824Z
UID:10002749-1761645600-1761667200@exploremenomonie.com
SUMMARY:Rural Arts & Culture Forum
DESCRIPTION:People involved in the arts and creativity\, business\, community development\, education\, government\, and politics\, are invited to come together at the 2025 Rural Arts and Creativity Forum\, on Tuesday\, October 28\, 2025\, in Menomonie\, WI. Registration is free – click here to register. \nThis year’s Forum will take place at the Mabel Tainter Theater in downtown Menomonie\, a restored vintage American theater presenting a varied schedule of musical\, theatrical and visual programs and events. The Forum is hosted by Create Wisconsin\, Wisconsin Arts Board\, and the Mabel Tainter Theater.
URL:https://exploremenomonie.com/event/__ruralartsculture/
LOCATION:Mabel Tainter\, 205 Main St. E\, Menomonie\, WI\, 54751\, United States
CATEGORIES:Arts & Culture
ATTACH;FMTTYPE=image/png:https://exploremenomonie.com/wp-content/uploads/2025/09/RuralArtsForum.png
ORGANIZER;CN="The Mabel Tainter":MAILTO:boxoffice@mabeltainter.org
GEO:205 Main Street East, Menomonie, WI 54751;44.876594
X-APPLE-STRUCTURED-LOCATION;VALUE=URI;X-ADDRESS=Mabel Tainter 205 Main St. E Menomonie WI 54751 United States;X-APPLE-RADIUS=500;X-TITLE=205 Main St. E:geo:44.876594,205 Main Street East, Menomonie, WI 54751
END:VEVENT
BEGIN:VEVENT
DTSTART;TZID=UTC:20251025T140000
DTEND;TZID=UTC:20251025T163000
DTSTAMP:20260421T175642
CREATED:20251013T155110Z
LAST-MODIFIED:20251013T155110Z
UID:10002939-1761400800-1761409800@exploremenomonie.com
SUMMARY:Waking Sleepy Hollow - Mabel Tainter
DESCRIPTION:Welcome to present-day Sleepy Hollow. This little town now has traffic lights\, modern plumbing\, even a Dunkin’ Donuts – but traces from its past remain. A troupe of actors takes us on a tour of Sleepy Hollow\, but the participants begin to suspect that there is perhaps more truth to the legend than they realized. The past clashes with the present\, as the young square off with the dead\, and the Headless Horseman is brought into a 21st century of bicycles and cell phones.
URL:https://exploremenomonie.com/event/waking-sleepy-hollow-mabel-tainter/2025-10-25/
LOCATION:Mabel Tainter\, 205 Main St. E\, Menomonie\, WI\, 54751\, United States
CATEGORIES:Arts & Culture
ATTACH;FMTTYPE=image/png:https://exploremenomonie.com/wp-content/uploads/2025/10/SleepyHollowMT.png
ORGANIZER;CN="The Mabel Tainter":MAILTO:boxoffice@mabeltainter.org
GEO:205 Main Street East, Menomonie, WI 54751;44.876594
X-APPLE-STRUCTURED-LOCATION;VALUE=URI;X-ADDRESS=Mabel Tainter 205 Main St. E Menomonie WI 54751 United States;X-APPLE-RADIUS=500;X-TITLE=205 Main St. E:geo:44.876594,205 Main Street East, Menomonie, WI 54751
END:VEVENT
BEGIN:VEVENT
DTSTART;TZID=UTC:20251024T190000
DTEND;TZID=UTC:20251024T213000
DTSTAMP:20260421T175642
CREATED:20251013T155110Z
LAST-MODIFIED:20251013T155110Z
UID:10002938-1761332400-1761341400@exploremenomonie.com
SUMMARY:Waking Sleepy Hollow - Mabel Tainter
DESCRIPTION:Welcome to present-day Sleepy Hollow. This little town now has traffic lights\, modern plumbing\, even a Dunkin’ Donuts – but traces from its past remain. A troupe of actors takes us on a tour of Sleepy Hollow\, but the participants begin to suspect that there is perhaps more truth to the legend than they realized. The past clashes with the present\, as the young square off with the dead\, and the Headless Horseman is brought into a 21st century of bicycles and cell phones.
URL:https://exploremenomonie.com/event/waking-sleepy-hollow-mabel-tainter/2025-10-24/
LOCATION:Mabel Tainter\, 205 Main St. E\, Menomonie\, WI\, 54751\, United States
CATEGORIES:Arts & Culture
ATTACH;FMTTYPE=image/png:https://exploremenomonie.com/wp-content/uploads/2025/10/SleepyHollowMT.png
ORGANIZER;CN="The Mabel Tainter":MAILTO:boxoffice@mabeltainter.org
GEO:205 Main Street East, Menomonie, WI 54751;44.876594
X-APPLE-STRUCTURED-LOCATION;VALUE=URI;X-ADDRESS=Mabel Tainter 205 Main St. E Menomonie WI 54751 United States;X-APPLE-RADIUS=500;X-TITLE=205 Main St. E:geo:44.876594,205 Main Street East, Menomonie, WI 54751
END:VEVENT
BEGIN:VEVENT
DTSTART;TZID=UTC:20250912T193000
DTEND;TZID=UTC:20250912T210000
DTSTAMP:20260421T175642
CREATED:20250902T154814Z
LAST-MODIFIED:20250917T173217Z
UID:10002707-1757705400-1757710800@exploremenomonie.com
SUMMARY:An Evening with Lorrie Morgan!
DESCRIPTION:She is undeniably one of the most eloquently emotive vocalists of modern times. Lorrie Morgan\, the first woman in her genre to begin her career with three consecutive Platinum albums\, is back in the studio with award-winning producer Richard Landis\, working on a new album. It is sure to be yet another collection showcasing the rainbow of emotions\, from darkest heartache to bright\, shiny humor\, that is the hallmark of Morgan’s range.
URL:https://exploremenomonie.com/event/an-evening-with-lorrie-morgan/
LOCATION:Mabel Tainter\, 205 Main St. E\, Menomonie\, WI\, 54751\, United States
CATEGORIES:Arts & Culture
ORGANIZER;CN="The Mabel Tainter":MAILTO:boxoffice@mabeltainter.org
GEO:205 Main Street East, Menomonie, WI 54751;44.876594
X-APPLE-STRUCTURED-LOCATION;VALUE=URI;X-ADDRESS=Mabel Tainter 205 Main St. E Menomonie WI 54751 United States;X-APPLE-RADIUS=500;X-TITLE=205 Main St. E:geo:44.876594,205 Main Street East, Menomonie, WI 54751
END:VEVENT
BEGIN:VEVENT
DTSTART;TZID=UTC:20250905T193000
DTEND;TZID=UTC:20250905T213000
DTSTAMP:20260421T175642
CREATED:20250820T155347Z
LAST-MODIFIED:20250917T173413Z
UID:10002668-1757100600-1757107800@exploremenomonie.com
SUMMARY:Jason Dea West & the Siskiyou Crest
DESCRIPTION:American poet\, songwriter and troubadour (Folk\, country\, western\, traditional and alternative) Jason Dea West is an American troubadour who sings what he lives and lives what he sings. Wests’ poignant lyrics are brilliantly blended with vintage country\, folk and blues\, and timely sensibilities. \nFrom epic guitar and harmonica instrumentals to humorous song as story\, Jason never strays very far from the anarchic punk-folk roots of his beloved former band Barefoot Surrender and his celebrated current band Intuitive Compass.
URL:https://exploremenomonie.com/event/jason-dea-west-the-siskiyou-crest/
LOCATION:Mabel Tainter\, 205 Main St. E\, Menomonie\, WI\, 54751\, United States
CATEGORIES:Arts & Culture
ATTACH;FMTTYPE=image/png:https://exploremenomonie.com/wp-content/uploads/2025/08/JasonDea.png
ORGANIZER;CN="The Mabel Tainter":MAILTO:boxoffice@mabeltainter.org
GEO:205 Main Street East, Menomonie, WI 54751;44.876594
X-APPLE-STRUCTURED-LOCATION;VALUE=URI;X-ADDRESS=Mabel Tainter 205 Main St. E Menomonie WI 54751 United States;X-APPLE-RADIUS=500;X-TITLE=205 Main St. E:geo:44.876594,205 Main Street East, Menomonie, WI 54751
END:VEVENT
BEGIN:VEVENT
DTSTART;TZID=UTC:20250905T193000
DTEND;TZID=UTC:20250905T210000
DTSTAMP:20260421T175642
CREATED:20250902T154820Z
LAST-MODIFIED:20250917T192430Z
UID:10002706-1757100600-1757106000@exploremenomonie.com
SUMMARY:Jason Dea West and The Siskiyou Crest
DESCRIPTION:American poet\, songwriter and troubadour(Folk\, country\, western\, traditional and alternative)Jason Dea West is an American troubadour who sings what he lives and lives what he sings. Wests’ poignant lyrics are brilliantly blended with vintage country\, folk and blues\, and timely sensibilities. From epic guitar and harmonica instrumentals to humorous song as story\, Jason never strays very far from the anarchic punk-folk roots of his beloved former band Barefoot Surrender and his celebrated current band Intuitive Compass.
URL:https://exploremenomonie.com/event/jason-dea-west-and-the-siskiyou-crest/
LOCATION:Mabel Tainter\, 205 Main St. E\, Menomonie\, WI\, 54751\, United States
CATEGORIES:Arts & Culture
ATTACH;FMTTYPE=image/jpeg:https://exploremenomonie.com/wp-content/uploads/2025/08/1U2A9983-Exposure-scaled-1.jpg
ORGANIZER;CN="The Mabel Tainter":MAILTO:boxoffice@mabeltainter.org
GEO:205 Main Street East, Menomonie, WI 54751;44.876594
X-APPLE-STRUCTURED-LOCATION;VALUE=URI;X-ADDRESS=Mabel Tainter 205 Main St. E Menomonie WI 54751 United States;X-APPLE-RADIUS=500;X-TITLE=205 Main St. E:geo:44.876594,205 Main Street East, Menomonie, WI 54751
END:VEVENT
BEGIN:VEVENT
DTSTART;TZID=UTC:20250829T193000
DTEND;TZID=UTC:20250829T210000
DTSTAMP:20260421T175642
CREATED:20250707T214738Z
LAST-MODIFIED:20250917T192530Z
UID:10000941-1756495800-1756501200@exploremenomonie.com
SUMMARY:David Cook
DESCRIPTION:David Cook rose to national fame in 2008 when he won American Idol Season 7. Since that time\, David has earned two platinum selling albums\, four Billboard top 10 albums\, nineteen (19) Billboard top 25 singles\, and three (3) Billboard #1 singles. In total\, David has sold 11 million records. His hits include “The Time of My Life”\, “Light On”\, “Come Back To Me”\, “Bar-ba-sol”\, “Dream Big”\, and “The Last Goodbye”. \nOutside of music\, David has starred in multiple roles on Broadway. His most recent work was playing Charlie Price in Kinky Boots. He is also involved with multiple brain cancer charities\, and performs regularly for the USO and Armed Forces overseas. Here in the US\, David headlines 50-60 theater and club shows a year.
URL:https://exploremenomonie.com/event/david-cook/
LOCATION:Mabel Tainter\, 205 Main St. E\, Menomonie\, WI\, 54751\, United States
CATEGORIES:Arts & Culture,Attractions,Family Fun
ATTACH;FMTTYPE=image/jpeg:https://exploremenomonie.com/wp-content/uploads/2025/07/20-David-Cook-0U3A6920-scaled-1.jpg
ORGANIZER;CN="The Mabel Tainter":MAILTO:boxoffice@mabeltainter.org
GEO:205 Main Street East, Menomonie, WI 54751;44.876594
X-APPLE-STRUCTURED-LOCATION;VALUE=URI;X-ADDRESS=Mabel Tainter 205 Main St. E Menomonie WI 54751 United States;X-APPLE-RADIUS=500;X-TITLE=205 Main St. E:geo:44.876594,205 Main Street East, Menomonie, WI 54751
END:VEVENT
BEGIN:VEVENT
DTSTART;TZID=UTC:20250723T193000
DTEND;TZID=UTC:20250723T210000
DTSTAMP:20260421T175642
CREATED:20250707T214734Z
LAST-MODIFIED:20250917T210951Z
UID:10000940-1753299000-1753304400@exploremenomonie.com
SUMMARY:Storm Large
DESCRIPTION:Storm Large: musician\, actor\, playwright\, author\, awesome. She shot to national prominence in 2006 as a finalist on the CBS show Rock Star: Supernova. There\, despite having been eliminated the week before the finale\, Storm built a fanbase that follows her around the world. Additionally\, she was seen on the 2021 season of America’s Got Talent.  Storm spent the 1990s singing in clubs throughout San Francisco. Tired of the club scene\, she moved to Portland to pursue a new career as a chef. However\, a last-minute cancellation at a Portland club turned into a standing weekly engagement for Storm and her new band\, The Balls. It wasn’t long before Storm had a cult-like following in Portland. Then\, this renewed her singing career that was soon to be launched onto the international stage. Storm continues to tour concert halls across the country with her band Le Bonheur. She also appears as a special guest on Michael Feinstein’s Shaken & Stirred tour. Alongside Liza Minnelli and Joel Grey\, Storm joined Michael Feinstein as special guest with the Pasadena Pops. In the 18-19 season\, she performed her one-woman autobiographical musical memoir Crazy Enough. Storm made her debut as guest vocalist with the band Pink Martini in April 2011. There\, she sang four sold-out concerts with the National Symphony Orchestra at the Kennedy Center in Washington\, DC. She continues to perform with the band\, nationally and internationally\, and is featured on their 2013 album Get Happy. Storm has also sung with Grammy winner k.d. lang\, pianist Kirill Gerstein\, and punk rocker John Doe. Also\, singer/songwriter Rufus Wainwright\, and Rock and Roll Hall of Famer George Clinton.
URL:https://exploremenomonie.com/event/storm-large/
LOCATION:Mabel Tainter\, 205 Main St. E\, Menomonie\, WI\, 54751\, United States
CATEGORIES:Arts & Culture,Attractions,Family Fun
ATTACH;FMTTYPE=image/png:https://exploremenomonie.com/wp-content/uploads/2025/07/thumbnail_image.png
ORGANIZER;CN="The Mabel Tainter":MAILTO:boxoffice@mabeltainter.org
GEO:205 Main Street East, Menomonie, WI 54751;44.876594
X-APPLE-STRUCTURED-LOCATION;VALUE=URI;X-ADDRESS=Mabel Tainter 205 Main St. E Menomonie WI 54751 United States;X-APPLE-RADIUS=500;X-TITLE=205 Main St. E:geo:44.876594,205 Main Street East, Menomonie, WI 54751
END:VEVENT
BEGIN:VEVENT
DTSTART;TZID=UTC:20250614T160000
DTEND;TZID=UTC:20250614T220000
DTSTAMP:20260421T175642
CREATED:20250401T150946Z
LAST-MODIFIED:20250917T211908Z
UID:10000742-1749916800-1749938400@exploremenomonie.com
SUMMARY:Mabel's Community Celebration 2025
DESCRIPTION:Come and join The Mabel Tainter for our 5th Annual Mabel Community Celebration! Enjoy a variety of delicious food from the food trucks\, jam out to live music\, and have fun with the whole community. This event is open to everyone\, so bring your friends\, family\, and neighbors for a night of festivities. We hope to see you there! Lineup for live music to be announced.
URL:https://exploremenomonie.com/event/mabels-community-celebration-2025/
LOCATION:Mabel Tainter\, 205 Main St. E\, Menomonie\, WI\, 54751\, United States
CATEGORIES:Arts & Culture
ATTACH;FMTTYPE=image/png:https://exploremenomonie.com/wp-content/uploads/2025/03/MCC2025.png
ORGANIZER;CN="The Mabel Tainter":MAILTO:boxoffice@mabeltainter.org
GEO:205 Main Street East, Menomonie, WI 54751;44.876594
X-APPLE-STRUCTURED-LOCATION;VALUE=URI;X-ADDRESS=Mabel Tainter 205 Main St. E Menomonie WI 54751 United States;X-APPLE-RADIUS=500;X-TITLE=205 Main St. E:geo:44.876594,205 Main Street East, Menomonie, WI 54751
END:VEVENT
BEGIN:VEVENT
DTSTART;TZID=UTC:20250603T180000
DTEND;TZID=UTC:20250603T193000
DTSTAMP:20260421T175642
CREATED:20250514T161156Z
LAST-MODIFIED:20250917T212253Z
UID:10000887-1748973600-1748979000@exploremenomonie.com
SUMMARY:Wisconsin Music Trivia - Mabel Tainter
DESCRIPTION:Test your knowledge of Wisconsin Music Trivia with Wisconsin Public Radio. Join WPR staff for a night filled with trivia\, music and prizes. Grab your friends and show off your Wisconsin pride.
URL:https://exploremenomonie.com/event/wisconsin-music-trivia-mabel-tainter/
LOCATION:Mabel Tainter\, 205 Main St. E\, Menomonie\, WI\, 54751\, United States
CATEGORIES:Arts & Culture
ATTACH;FMTTYPE=image/jpeg:https://exploremenomonie.com/wp-content/uploads/2025/05/167337_musictrivia_email.jpg
ORGANIZER;CN="The Mabel Tainter":MAILTO:boxoffice@mabeltainter.org
GEO:205 Main Street East, Menomonie, WI 54751;44.876594
X-APPLE-STRUCTURED-LOCATION;VALUE=URI;X-ADDRESS=Mabel Tainter 205 Main St. E Menomonie WI 54751 United States;X-APPLE-RADIUS=500;X-TITLE=205 Main St. E:geo:44.876594,205 Main Street East, Menomonie, WI 54751
END:VEVENT
BEGIN:VEVENT
DTSTART;TZID=UTC:20250529T190000
DTEND;TZID=UTC:20250529T210000
DTSTAMP:20260421T175642
CREATED:20250602T202627Z
LAST-MODIFIED:20250917T212522Z
UID:10000912-1748545200-1748552400@exploremenomonie.com
SUMMARY:Mabel's Community Celebration 2025
DESCRIPTION:Come and join The Mabel Tainter for our 5th Annual Mabel Community Celebration! Enjoy a variety of delicious food from the food trucks\, jam out to live music\, and have fun with the whole community. This event is open to everyone\, so bring your friends\, family\, and neighbors for a night of festivities. We hope to see you there! \nLive Performances:\n2PM: To Laugh is To Live – The Mabel Stage\n“To Laugh is to Live!” is a hilarious theatrical adventure featuring family entertainer Kenny Ahern. The show is perfectly suited for the Mabel Tainter stage. You will be introduced to a whimsical and comic world where the audience happily becomes partners with Kenny’s lovable character. Prepare to laugh\, snort\, and guffaw as you experience a joyful sense of wonder that will leave you wishing for more.\nKenny has years of experience winning audiences’ hearts on stages around the world\, including Singapore\, Russia\, Poland\, Japan\, England\, Hong Kong\, France\, Canada\, Hungary\, India\, and Taiwan. His captivating performance style masterfully blends physical comedy\, improvisation\, music\, dance\, and circus/variety arts.\n“I’m not a solo act because so many audience members (grown-ups and kids) join me on stage\,” Kenny proudly proclaims. “I want my new partners to feel great when they leave the stage. I want them to be the stars!”\nIt’s a funny\, heartwarming show that speaks volumes without saying a word. \n4PM: The Home Grown Tomatoes Band – The Main Street Stage\n6PM: Michael Perry and The Long Beds – The Main Street Stage\nMichael Perry and the Long Beds feature all-original songs written and sung by Michael Perry (New York Times bestselling author of numerous books including: Population 485\, Truck\, The Scavengers\, and Visiting Tom). Perry began writing music in the early 1990s as a way to break up all-night typing sessions when he was struggling to survive on prose. Eventually a musician friend invited him to play a coffee shop gig. “I’m not saying I was nervous\, but I cranked out a sixty-minute set list in thirty-two minutes flat\,” says Perry.\nSince then Michael has released 4 albums\, several singles\, and toured backed by a collection of renowned musicians who have performed on numerous stages throughout the world (including The Tonight Show\, Austin City Limits\, and Eaux Claires festival) and worked with a host of artists\, including Bon Iver\, S. Carey\, The Staves\, Miley Cyrus\, Lizzo\, Field Report\, The Tallest Man on Earth\, Jimmie Dale Gilmore\, and many more.\nEvery Long Beds show is built on roughneck ballads and freight train rockers interspersed with hilarious off-the-cuff tales from Mike’s diverse experience as a Wisconsin farm kid turned cowboy turned nurse turned best selling author and humorist (as featured on the recent PBS special Michael Perry: On the Road).\nMichael Perry resides with his family on a small farm in rural Wisconsin.\n8PM: Abbasolutely Fab – The Main Street Stage\n“ABBAsolutely Fab” — an all-star lineup of stellar Twin Cities and British musicians performing the songs of pop/disco supergroup\, ABBA!  Since forming several summers ago they have been selling out shows at theaters\, clubs and parks all over the State.
URL:https://exploremenomonie.com/event/mabels-community-celebration-2025-2/
LOCATION:Mabel Tainter\, 205 Main St. E\, Menomonie\, WI\, 54751\, United States
CATEGORIES:Arts & Culture
ATTACH;FMTTYPE=image/png:https://exploremenomonie.com/wp-content/uploads/2025/05/Music-Lineup-3.png
ORGANIZER;CN="The Mabel Tainter":MAILTO:boxoffice@mabeltainter.org
GEO:205 Main Street East, Menomonie, WI 54751;44.876594
X-APPLE-STRUCTURED-LOCATION;VALUE=URI;X-ADDRESS=Mabel Tainter 205 Main St. E Menomonie WI 54751 United States;X-APPLE-RADIUS=500;X-TITLE=205 Main St. E:geo:44.876594,205 Main Street East, Menomonie, WI 54751
END:VEVENT
BEGIN:VEVENT
DTSTART;TZID=UTC:20250528T190000
DTEND;TZID=UTC:20250528T210000
DTSTAMP:20260421T175642
CREATED:20250506T161250Z
LAST-MODIFIED:20250917T212609Z
UID:10000838-1748458800-1748466000@exploremenomonie.com
SUMMARY:Mabel's Movie Series: "The Mummy"
DESCRIPTION:Enjoy a movie night at The Mabel! At an archaeological dig in the ancient city of Hamunaptra\, an American serving in the French Foreign Legion accidentally awakens a mummy who begins to wreak havoc as he searches for the reincarnation of his long-lost love.
URL:https://exploremenomonie.com/event/mabels-movie-series-the-mummy-2/
LOCATION:Mabel Tainter\, 205 Main St. E\, Menomonie\, WI\, 54751\, United States
CATEGORIES:Arts & Culture,Attractions,Family Fun
ORGANIZER;CN="The Mabel Tainter":MAILTO:boxoffice@mabeltainter.org
GEO:205 Main Street East, Menomonie, WI 54751;44.876594
X-APPLE-STRUCTURED-LOCATION;VALUE=URI;X-ADDRESS=Mabel Tainter 205 Main St. E Menomonie WI 54751 United States;X-APPLE-RADIUS=500;X-TITLE=205 Main St. E:geo:44.876594,205 Main Street East, Menomonie, WI 54751
END:VEVENT
BEGIN:VEVENT
DTSTART;TZID=UTC:20250528T190000
DTEND;TZID=UTC:20250528T210000
DTSTAMP:20260421T175642
CREATED:20250506T161247Z
LAST-MODIFIED:20250918T161752Z
UID:10000839-1748458800-1748466000@exploremenomonie.com
SUMMARY:Mabel's Movie Series: "The Mummy"
DESCRIPTION:Enjoy a movie night at The Mabel! At an archaeological dig in the ancient city of Hamunaptra\, an American serving in the French Foreign Legion accidentally awakens a mummy who begins to wreak havoc as he searches for the reincarnation of his long-lost love.
URL:https://exploremenomonie.com/event/mabels-movie-series-the-mummy/
LOCATION:Mabel Tainter\, 205 Main St. E\, Menomonie\, WI\, 54751\, United States
CATEGORIES:Arts & Culture,Attractions,Family Fun
ATTACH;FMTTYPE=image/png:https://exploremenomonie.com/wp-content/uploads/2025/05/the-mummy-1920-x-1080-px.png
ORGANIZER;CN="The Mabel Tainter":MAILTO:boxoffice@mabeltainter.org
GEO:205 Main Street East, Menomonie, WI 54751;44.876594
X-APPLE-STRUCTURED-LOCATION;VALUE=URI;X-ADDRESS=Mabel Tainter 205 Main St. E Menomonie WI 54751 United States;X-APPLE-RADIUS=500;X-TITLE=205 Main St. E:geo:44.876594,205 Main Street East, Menomonie, WI 54751
END:VEVENT
END:VCALENDAR