BEGIN:VCALENDAR
VERSION:2.0
PRODID:-//Explore Menomonie - ECPv6.15.20//NONSGML v1.0//EN
CALSCALE:GREGORIAN
METHOD:PUBLISH
X-WR-CALNAME:Explore Menomonie
X-ORIGINAL-URL:https://exploremenomonie.com
X-WR-CALDESC:Events for Explore Menomonie
REFRESH-INTERVAL;VALUE=DURATION:PT1H
X-Robots-Tag:noindex
X-PUBLISHED-TTL:PT1H
BEGIN:VTIMEZONE
TZID:UTC
BEGIN:STANDARD
TZOFFSETFROM:+0000
TZOFFSETTO:+0000
TZNAME:UTC
DTSTART:20240101T000000
END:STANDARD
END:VTIMEZONE
BEGIN:VEVENT
DTSTART;TZID=UTC:20251214T150000
DTEND;TZID=UTC:20251214T160000
DTSTAMP:20260423T014455
CREATED:20251124T141819Z
LAST-MODIFIED:20251124T141819Z
UID:10003393-1765724400-1765728000@exploremenomonie.com
SUMMARY:TUBACHRISTMAS in Menomonie
DESCRIPTION:🎶🎄 Calling ALL Tuba\, Sousaphone\, Euphonium & Baritone Players! 🎄🎶 \nGet ready to make some big brass magic — the Ludington Guard Band proudly presents the 12th Annual TUBACHRISTMAS Concert in Menomonie! \n📅 Sunday\, December 14th\, 2025\n🕒 Concert at 3:00 PM\n📍 St. Joseph’s Catholic Church\, 910 Wilson Ave.\, Menomonie\, WI 54751 \n🎺 About the Event:\nCreated by Harvey Phillips\, Merry TUBACHRISTMAS is celebrating its 52nd Anniversary this year! Join us for a joyful performance of classic Christmas carols led by Conductor Jesse Farnlof. \n🎅 To Participate:\nIf you play Tuba\, Sousaphone\, Euphonium\, or Baritone\, come join the fun!\n✨ All ages welcome\n✨ Dress festive & decorate your instrument\n✨ Bring a music stand \n📝 Schedule:\n•    Registration: 12:30 PM ($15 fee – includes a 2025 commemorative button)\n•    Group Photo: 1:25 PM\n•    Rehearsal: 1:30 PM\n•    Concert: 3:00 PM \n🎵 Music Books: $20 each\n(Same books are used every year — photocopies not allowed!)\nContact us to reserve one. \n🎟️ Audience admission is FREE!\n🚗 Free parking at the church. \nFor questions or updates\, email: TUBACHRISTMAS.MENOMONIE12@GMAIL.COM \nLet’s fill Menomonie with the warm\, rich sound of the holidays — one low brass note at a time! 🎶❤️
URL:https://exploremenomonie.com/event/tubachristmas-in-menomonie/
LOCATION:St. Joseph’s Catholic Church\, 910 Wilson Ave.\,\, Menomonie\, WI\, 54751\, United States
CATEGORIES:Family Fun
ATTACH;FMTTYPE=image/jpeg:https://exploremenomonie.com/wp-content/uploads/2025/11/580667695_1466471441496380_2624959494396980286_n.jpg
END:VEVENT
END:VCALENDAR